BEGIN:VCALENDAR
VERSION:2.0
PRODID:-//Group Events Plugin//EN
CALSCALE:GREGORIAN
METHOD:PUBLISH
BEGIN:VEVENT
UID:25038@ykkostyypit.fi
DTSTAMP:20260420T030941Z
DTSTART;TZID=Europe/Helsinki:20260503T170000
DTEND;TZID=Europe/Helsinki:20260503T170000
SUMMARY:Oulu: toukokuun vanhempainilta
DESCRIPTION:🩵 Vertaistukitapaaminen T1D-lasten vanhemmille ja läheisille. Muistathan ilmoittautua!\n\n\n\nLämpimästi tervetuloa vertaistukitapaamiseen ykköstyypin diabetesta sairastavien lasten vanhemmille ja läheisille. Järjestäjänä toimii Ykköstyypit ry\, mutta osallistumiseen ei tarvitse jäsenyyttä.\n\n\n\n🗓️ su 3.5.2026 klo 17:00🏢 Robert’s Coffee Oulu📍Isokatu 28\, 90100 Oulu\n\n\n\nTämä tapaaminen on varattu aikuisille\, jotta jokaisella olisi mahdollisuus keskustella rauhassa\, kysyä ja jakaa myös sellaisia ajatuksia ja tunteita\, joita ei aina lasten kuullen tule sanottua. Tarkoitus on tarjota hetki hengähtää turvallisessa seurassa — yhdessä sellaisten ihmisten kanssa\, jotka ymmärtävät arkea diabeteksen kanssa.\n\n\n\nVoit tulla jakamaan kokemuksia\, kuuntelemaan muiden ajatuksia tai vain olemaan mukana. Et tarvitse aiempaa kokemusta vertaistuesta eikä sinun tarvitse puhua\, jos et halua. Jokainen saa osallistua omalla tavallaan.\n\n\n\nMitä tapaamisessa tehdään?\n\n\n\n\nvapaata keskustelua arjen tilanteista\n\n\n\nkokemusten ja vinkkien jakamista\n\n\n\ntunteiden purkamista turvallisessa ilmapiirissä\n\n\n\nkahvit jne omakustanteisesti\n\n\n\n\nTapaaminen kestää n. 1\,5 tuntia (voit tulla / lähteä myös kesken). Voit myös tulla vain kokeilemaan — sitoutumista ei ole.\n\n\n\nLämpimästi tervetuloa mukaan 💙
LOCATION:Isokatu 28\, 90100 Oulu
URL:https://ykkostyypit.fi/t/oulu-toukokuun-vanhempainilta/
END:VEVENT
END:VCALENDAR
