BEGIN:VCALENDAR
VERSION:2.0
PRODID:-//Group Events Plugin//EN
CALSCALE:GREGORIAN
METHOD:PUBLISH
BEGIN:VEVENT
UID:25088@ykkostyypit.fi
DTSTAMP:20260421T122159Z
DTSTART;TZID=Europe/Helsinki:20260428T170000
DTEND;TZID=Europe/Helsinki:20260428T190000
SUMMARY:Salo: Diabeteslasten &amp\; perheenjäsenten vappujuhlat
DESCRIPTION:Tervetuloa ykköslasten avoimeen kerhotoimintaan! Tapahtumaan on vapaa pääsy.\n\n\n\n📅&nbsp\;ti 28.4.2026 klo 17:00 - 19:00📍&nbsp\;Salon omaishoitajat ry – Torikatu 12\, 24100 Salo\n\n\n\nTapaaminen on tiistaina 28.4. klo 17-19 (Salon Omaishoitajat ry:n tiloissa\, Torikatu 12)\, VAPPUJUHLIEN merkeissä! 🥯🥤🍿\n\n\n\nLuvassa on askartelua\, ongintaa\, siirtotatuointeja.sekä kampausten tekoa ja letityksiä -- oma kampa ja hiuslenkkejä mukaan! Tiedossa on tottakai myös herkkuja &amp\; juomia eli munkki- ja mehupiste!\n\n\n\nPS: Paikan päällä voit myös ilmoittaa mahdollisen mielenkiintosi lähteä mukaan tämän kerhotoiminnan pyörittämiseen muiden kanssa :). Otamme uusia mieluusti mukaan siis!\n\n\n\n\n\n\n\nTervetuloa!
LOCATION:Torikatu 12\, 24100 Salo
URL:https://ykkostyypit.fi/t/salo-lasten-vappujuhlat/
END:VEVENT
END:VCALENDAR
