BEGIN:VCALENDAR
VERSION:2.0
PRODID:-//Group Events Plugin//EN
CALSCALE:GREGORIAN
METHOD:PUBLISH
BEGIN:VEVENT
UID:25122@ykkostyypit.fi
DTSTAMP:20260423T144032Z
DTSTART;TZID=Europe/Helsinki:20260509T180000
DTEND;TZID=Europe/Helsinki:20260509T180000
SUMMARY:Tampere: toukokuun Dinner
DESCRIPTION:Tervetuloa ykköstyypin diabeetikoiden avoimeen tapaamiseen! Tarkoituksena on tutustua\, jutella\, syödä ja juoda (omakustanteisesti) sekä jakaa vinkkejä ja löytää uusia kavereita 😊.\n\n\n\n📅 la 9.5.2026 klo 18:00📍 John Scott&#039\;s Ratina – Vuolteenkatu 1\, 33100 Tampere — tsekkaa paikka täältä\n\n\n\nTule avoimin mielin mukaan — lähdetään kaikki samalta viivalta ja uudet kasvot otetaan lämpimästi vastaan. Osallistumalla sitoudut noudattamaan&nbsp\;turvallisemman tilan periaatteita.\n\n\n\n👉&nbsp\;Ilmoittaudu&nbsp\;sivun ylälaidasta löytyvillä ilmoittautumistavoilla. Jos luet tätä Facebookissa\, voit ilmoittautua merkitsemällä itsesi osallistujaksi kyseiseen Facebook-tapahtumaan.&nbsp\;\n\n\n\nTervetuloa!
LOCATION:Vuolteenkatu 1\, 33100 Tampere
URL:https://ykkostyypit.fi/t/tampere-toukokuun-dinner/
END:VEVENT
END:VCALENDAR
